BEGIN:VCALENDAR
VERSION:2.0
PRODID:icalendar-ruby
CALSCALE:GREGORIAN
METHOD:PUBLISH
BEGIN:VEVENT
DTSTAMP:20260423T050138Z
UID:5-539746@rosenortcommunity.tithelysetup5.com
DTSTART:20261025T153000Z
DTEND:20261025T163000Z
CLASS:PUBLIC
CREATED:20260422T212339
DESCRIPTION:Sunday Worship
LAST-MODIFIED:20260422T212339
LOCATION:
SUMMARY:Sunday Worship
URL;VALUE=URI:https://connectwithrcc.com/events/sunday-worship/2026-10-25
END:VEVENT
END:VCALENDAR
