BEGIN:VCALENDAR
VERSION:2.0
PRODID:icalendar-ruby
CALSCALE:GREGORIAN
METHOD:PUBLISH
BEGIN:VEVENT
DTSTAMP:20260421T002017Z
UID:132-534346@rosenortcommunity.tithelysetup5.com
DTSTART:20261014T000000Z
DTEND:20261014T030000Z
CLASS:PUBLIC
CREATED:20260420T165948
DESCRIPTION:
LAST-MODIFIED:20260420T165948
LOCATION:Kevin & Becky's
SUMMARY:Senior Youth 
URL;VALUE=URI:https://connectwithrcc.com/events/senior-youth--132/2026-10-1
 3
ATTACH;FILENAME=Senior-Youth.jpg;FMTTYPE=image/jpeg:https://dq5pwpg1q8ru0.c
 loudfront.net/2025/10/01/16/10/36/d1acfd80-6b4c-47af-8f21-f7ebf7221a29/Sen
 ior-Youth.jpg
END:VEVENT
END:VCALENDAR
