BEGIN:VCALENDAR
VERSION:2.0
PRODID:icalendar-ruby
CALSCALE:GREGORIAN
METHOD:PUBLISH
BEGIN:VEVENT
DTSTAMP:20260420T055844Z
UID:132-531798@rosenortcommunity.tithelysetup5.com
DTSTART:20260805T000000Z
DTEND:20260805T030000Z
CLASS:PUBLIC
CREATED:20260419T221000
DESCRIPTION:
LAST-MODIFIED:20260419T221000
LOCATION:Kevin & Becky's
SUMMARY:Senior Youth 
URL;VALUE=URI:https://connectwithrcc.com/events/senior-youth--132/2026-08-0
 4
ATTACH;FILENAME=Senior-Youth.jpg;FMTTYPE=image/jpeg:https://dq5pwpg1q8ru0.c
 loudfront.net/2025/10/01/16/10/36/d1acfd80-6b4c-47af-8f21-f7ebf7221a29/Sen
 ior-Youth.jpg
END:VEVENT
END:VCALENDAR
