BEGIN:VCALENDAR
VERSION:2.0
PRODID:icalendar-ruby
CALSCALE:GREGORIAN
METHOD:PUBLISH
BEGIN:VEVENT
DTSTAMP:20260421T061609Z
UID:137-432828@rosenortcommunity.tithelysetup5.com
DTSTART:20260626T000000Z
DTEND:20260626T020000Z
CLASS:PUBLIC
CREATED:20260310T170056
DESCRIPTION:
LAST-MODIFIED:20260310T170056
LOCATION:
SUMMARY:Rental - LFBC
URL;VALUE=URI:https://connectwithrcc.com/events/rental-lfbc--137/2026-06-25
ATTACH;FILENAME=LFBC-Staff-Training.jpg;FMTTYPE=image/jpeg:https://dq5pwpg1
 q8ru0.cloudfront.net/2026/03/10/22/00/55/cb36c6ec-7297-4d0d-a31b-6db22d946
 fff/LFBC-Staff-Training.jpg
END:VEVENT
END:VCALENDAR
