BEGIN:VCALENDAR
VERSION:2.0
PRODID:icalendar-ruby
CALSCALE:GREGORIAN
METHOD:PUBLISH
BEGIN:VEVENT
DTSTAMP:20260420T094103Z
UID:138-505861@rosenortcommunity.tithelysetup5.com
DTSTART:20260426T170000Z
DTEND:20260426T190000Z
CLASS:PUBLIC
CREATED:20260409T152414
DESCRIPTION:
LAST-MODIFIED:20260409T152414
LOCATION:
SUMMARY:Hospitality Lunch
URL;VALUE=URI:https://connectwithrcc.com/events/hospitality-lunch/2026-04-2
 6
ATTACH;FILENAME=1.-Hospitality.jpg;FMTTYPE=image/jpeg:https://dq5pwpg1q8ru0
 .cloudfront.net/2026/04/09/20/24/14/4bd6882d-62bc-4b5f-94b7-596d3ff2d2fd/1
 .-Hospitality.jpg
END:VEVENT
END:VCALENDAR
